BEGIN:VCALENDAR
VERSION:2.0
PRODID:SchoolNow
CALSCALE:GREGORIAN
BEGIN:VEVENT
UID:aa8e4a46-f6d4-11eb-8c7f-0aa280311c97
DTSTAMP:20220404T134210Z
SUMMARY:CDD Board Meeting - Apr. 2022
LOCATION:The Groves Civic Center\, 7924 Melogold Circle Land O' Lakes\, FL 
 34637\, United States
URL;VALUE=URI:https://www.thegrovescdd.org/calendar/2657720/cdd-board-meeti
 ng-apr-2022
DTSTART:20220405T140000Z
DTEND:20220405T160000Z
ATTACH;FILENAME=2022-04-05- The Groves CDD - Revised Final Agenda.pdf;FMTTY
 PE=application/pdf:https://campussuite-storage.s3.amazonaws.com/prod/15588
 62/1725e972-ea96-11e9-b126-0a20d2c7fac4/2397754/00937262-b41d-11ec-a09c-0a
 9fc34fde47/file/2022-04-05- The Groves CDD - Revised Final Agenda.pdf
END:VEVENT
END:VCALENDAR
