BEGIN:VCALENDAR
VERSION:2.0
PRODID:SchoolNow
CALSCALE:GREGORIAN
BEGIN:VEVENT
UID:911c2100-1a41-11ed-be80-0e062dd3c9cf
DTSTAMP:20221027T155522Z
SUMMARY:CDD Board Meeting - Nov. 2022
LOCATION:The Groves Civic Center\, 7924 Melogold Circle Land O' Lakes\, FL 
 34637\, United States
URL;VALUE=URI:https://www.thegrovescdd.org/calendar/3279275/cdd-board-meeti
 ng-nov-2022
DTSTART:20221101T140000Z
DTEND:20221101T160000Z
ATTACH;FILENAME=2022-11-01- The Groves CDD - Revised Website Agenda.pdf;FMT
 TYPE=application/pdf:https://campussuite-storage.s3.amazonaws.com/prod/155
 8862/1725e972-ea96-11e9-b126-0a20d2c7fac4/2498521/a7bbcb40-560f-11ed-8df4-
 02a5e324add3/file/2022-11-01- The Groves CDD - Revised Website Agenda.pdf
END:VEVENT
END:VCALENDAR
