BEGIN:VCALENDAR
VERSION:2.0
PRODID:SchoolNow
CALSCALE:GREGORIAN
BEGIN:VEVENT
UID:a47bb1e8-1a41-11ed-b4d3-0e062dd3c9cf
DTSTAMP:20221202T211404Z
SUMMARY:CDD Board Meeting - Dec. 2022
LOCATION:The Groves Civic Center\, 7924 Melogold Circle Land O' Lakes\, FL 
 34637\, United States
URL;VALUE=URI:https://www.thegrovescdd.org/calendar/3279276/cdd-board-meeti
 ng-dec-2022
DTSTART:20221206T150000Z
DTEND:20221206T170000Z
ATTACH;FILENAME=2022-12-06- The Groves CDD - Revised Website Agenda.pdf;FMT
 TYPE=application/pdf:https://campussuite-storage.s3.amazonaws.com/prod/155
 8862/1725e972-ea96-11e9-b126-0a20d2c7fac4/2520385/3d286976-7286-11ed-9b50-
 0aa829d452ed/file/2022-12-06- The Groves CDD - Revised Website Agenda.pdf
END:VEVENT
END:VCALENDAR
