BEGIN:VCALENDAR
VERSION:2.0
PRODID:SchoolNow
CALSCALE:GREGORIAN
BEGIN:VEVENT
UID:c07e2196-1a41-11ed-b291-0e062dd3c9cf
DTSTAMP:20230104T214235Z
SUMMARY:CDD Board Meeting - Jan. 2023
LOCATION:The Groves Civic Center\, 7924 Melogold Circle Land O' Lakes\, FL 
 34637\, United States
URL;VALUE=URI:https://www.thegrovescdd.org/calendar/3279277/cdd-board-meeti
 ng-jan-2023
DTSTART:20230110T233000Z
DTEND:20230111T013000Z
ATTACH;FILENAME=2023-01-10- The Groves CDD - Website Agenda.pdf;FMTTYPE=app
 lication/pdf:https://campussuite-storage.s3.amazonaws.com/prod/1558862/172
 5e972-ea96-11e9-b126-0a20d2c7fac4/2533300/afb1b4aa-8c78-11ed-801d-0ef3de45
 020d/file/2023-01-10- The Groves CDD - Website Agenda.pdf
END:VEVENT
END:VCALENDAR
