BEGIN:VCALENDAR
VERSION:2.0
PRODID:SchoolNow
CALSCALE:GREGORIAN
BEGIN:VEVENT
UID:cd5f1d2a-1a41-11ed-8e8d-0e062dd3c9cf
DTSTAMP:20230206T215953Z
SUMMARY:CDD Board Meeting - Feb. 2023
LOCATION:The Groves Civic Center\, 7924 Melogold Circle Land O' Lakes\, FL 
 34637\, United States
URL;VALUE=URI:https://www.thegrovescdd.org/calendar/3279278/cdd-board-meeti
 ng-feb-2023
DTSTART:20230207T150000Z
DTEND:20230207T170000Z
ATTACH;FILENAME=2023-02-07- The Groves CDD - 1st Audit & Regular Meeting - 
 Revised Final Agenda.pdf;FMTTYPE=application/pdf:https://campussuite-stora
 ge.s3.amazonaws.com/prod/1558862/1725e972-ea96-11e9-b126-0a20d2c7fac4/2546
 956/bd634122-a406-11ed-ab8f-0e0abaf791bf/file/2023-02-07- The Groves CDD -
  1st Audit & Regular Meeting - Revised Final Agenda.pdf
END:VEVENT
END:VCALENDAR
