BEGIN:VCALENDAR
VERSION:2.0
PRODID:SchoolNow
CALSCALE:GREGORIAN
BEGIN:VEVENT
UID:d458a48e-a8bc-11ed-bb28-0e1d8fde4e33
DTSTAMP:20230216T195832Z
SUMMARY:CDD Workshop Meeting - Feb. 2023
LOCATION:The Groves Civic Center\, 7924 Melogold Circle Land O' Lakes\, FL 
 34637\, United States
URL;VALUE=URI:https://www.thegrovescdd.org/calendar/3731598/cdd-workshop-me
 eting-feb-2023
DTSTART:20230221T150000Z
DTEND:20230221T170000Z
ATTACH;FILENAME=2023-02-21- The Groves CDD - Revised Final Workshop Agenda.
 pdf;FMTTYPE=application/pdf:https://campussuite-storage.s3.amazonaws.com/p
 rod/1558862/1725e972-ea96-11e9-b126-0a20d2c7fac4/2552726/432bed7c-ae34-11e
 d-9930-0ed4ed5e762f/file/2023-02-21- The Groves CDD - Revised Final Worksh
 op Agenda.pdf
END:VEVENT
END:VCALENDAR
